BEGIN:VCALENDAR
VERSION:2.0
PRODID:-//De Witte Prins - ECPv6.15.20//NONSGML v1.0//EN
CALSCALE:GREGORIAN
METHOD:PUBLISH
X-WR-CALNAME:De Witte Prins
X-ORIGINAL-URL:https://dewitteprins.nl
X-WR-CALDESC:Evenementen voor De Witte Prins
REFRESH-INTERVAL;VALUE=DURATION:PT1H
X-Robots-Tag:noindex
X-PUBLISHED-TTL:PT1H
BEGIN:VTIMEZONE
TZID:Europe/Amsterdam
BEGIN:DAYLIGHT
TZOFFSETFROM:+0100
TZOFFSETTO:+0200
TZNAME:CEST
DTSTART:20240331T010000
END:DAYLIGHT
BEGIN:STANDARD
TZOFFSETFROM:+0200
TZOFFSETTO:+0100
TZNAME:CET
DTSTART:20241027T010000
END:STANDARD
BEGIN:DAYLIGHT
TZOFFSETFROM:+0100
TZOFFSETTO:+0200
TZNAME:CEST
DTSTART:20250330T010000
END:DAYLIGHT
BEGIN:STANDARD
TZOFFSETFROM:+0200
TZOFFSETTO:+0100
TZNAME:CET
DTSTART:20251026T010000
END:STANDARD
BEGIN:DAYLIGHT
TZOFFSETFROM:+0100
TZOFFSETTO:+0200
TZNAME:CEST
DTSTART:20260329T010000
END:DAYLIGHT
BEGIN:STANDARD
TZOFFSETFROM:+0200
TZOFFSETTO:+0100
TZNAME:CET
DTSTART:20261025T010000
END:STANDARD
END:VTIMEZONE
BEGIN:VEVENT
DTSTART;TZID=Europe/Amsterdam:20250803T130000
DTEND;TZID=Europe/Amsterdam:20250803T170000
DTSTAMP:20260424T135138
CREATED:20250625T092954Z
LAST-MODIFIED:20250625T112929Z
UID:10000091-1754226000-1754240400@dewitteprins.nl
SUMMARY:Verbindend en authentiek contact
DESCRIPTION:Meedoen? Koop een ticket\n\n\n\nnaar evenement details\n\n\n\n\nHet meest waardevolle cadeau is je vermogen om soepel en vriendelijk met anderen om te gaan en innerlijk rustig en open te blijven in tal van situaties. Je vermogen om stil en “aanwezig” te blijven en te luisteren\, terwijl anderen zich kunnen ontvouwen is goud waard. \n\n\n\nOm daar te komen moet je best vaardig zijn\, want je eigen verlangen om ontvangen te worden moet genoeg bevredigd zijn. Hoe help je jezelf aan een prettiger ervaring\, terwijl je ook de ander helpt kalmeren? Hoe kan je helpen als de ander op momenten uitdagend voor je is? \n\n\n\nHoe kan je jezelf blijven in contact\, terwijl je ook anderen hun ruimte kan laten. Hoe kan je jezelf delen en anderen ontvangen in hun vorm? Hoe kan je vragen en waar nodig eerste hulp verlenen? Hoe los je afstand op en help je situaties? Wat is de weg naar vrede en nabijheid in contact? \n\n\n\nJe hebt innerlijk ruimte nodig\, zodat je niet alleen je eigen reacties en innerlijke staten kunt dragen\, maar ook nog dat van die ander erbij te kunnen laten. Dat kan uitdagend zijn\, helemaal als je in situaties komt waar je weet dat je nog niet goed mee kunt omgaan.  \n\n\n\nHoe ga je om met de stevigheid\, wilskracht en zelfs agressie van anderen? Hoe ontvang je en buig je het om naar iets dat gemakkelijker is? Het is gemakkelijk om de ander fout te vinden\, maar het beperkt ook jou als je dat doet. Hoe kan het anders? \n\n\n\nUit contact gaan\, door innerlijk of uiterlijk weg te gaan\, is eigenlijk geen oplossing\, want ofschoon je daarmee de druk op jezelf wat vermindert\, communiceert het ook een afwijzing en isoleert zowel jou als die ander.  \n\n\n\nJe zoekt eigenlijk een oplossing die je in contact laat zijn en het contact dragelijker en zelfs prettiger kan laten zijn. \n\n\n\nDat is best een reis voor velen van ons\, als we eerlijk zijn. Ik ben daarin ook op weg en gewoonten die we hebben opgebouwd die ons willen beschermen zijn niet altijd het meest handig als we onze mogelijkheden willen vergroten of meer nabijheid zoeken. \n\n\n\nHet overbruggen van de afstand naar anderen\, het moeiteloos kunnen ontvangen van een breed scala aan persoonlijkheden\, het kunnen omgaan met veel verschillende situaties\, opent veel mogelijkheden. Het kalmeren van emoties\, het zijn allemaal leerbare vaardigheden. \n\n\n\nAls we het aandurven om onszelf te laten kennen en de nabijheid van een ander verdragen of zelfs opzoeken en dat wordt beantwoord\, dan kan je spreken van intiem contact.  \n\n\n\nIntiem betekent dat wat er is eerlijk is en echt uitdrukt wat in je leeft en wat in de ander leeft. Als de afstand oplost en je hoeft jezelf niet meer terug te houden\, dan ben je daar. Dat is heerlijk\, want dan weet je dat je niet alleen staat\, zelfs als de ander of jij geen woord zeggen. Het gevoel van verbinding is daar en beiden gaan dus hand in hand.  \n\n\n\nWe durven daar vaak niet heen of laten het van de ander of omstandigheden afhangen\, maar is dat nodig? Kan je sterk en stevig en min of meer onkwetsbaar zijn en toch ook helemaal eerlijk en open en dapper zijn? \n\n\n\nErgens verlangen we naar contact dat heel nabij en open is\, geheimen en dat wat we terughouden drukt op ons\, maar we zijn bang voor wat het in gang zet\, we zijn bang voor wat de ander doet met onze eerlijke openheid.  \n\n\n\nHet is die angst die ons onervaren doen blijven en afhankelijk van omstandigheden en die maakt dat we zoveel lading op dit contact hebben gelegd dat we niet hebben ontdekt hoeveel simpeler het kan zijn dan de lading en angst ons doen denken.  \n\n\n\nHet kan een schaduw zijn van een verleden waarin we misschien veel teleurstellingen\, dreiging en straf hebben ervaren en waar je er niet uitkwam. Maar is terughouden en terugtrekken\, of jezelf overschreeuwen met bravoure\, bluf en arrogantie\, vervolgens je enige mogelijkheid? \n\n\n\nGeen van die mogelijkheden is erg bevredigend en sommige zijn zelfs schadelijk voor duurzame relaties. \n\n\n\nWe hebben elkaar op zoveel manieren nodig\, maar hoe uitdagend is het om in contact aanwezig te blijven en de uitkomsten te bereiken die je eigenlijk wilt?  \n\n\n\nContact waarin je helemaal open kunt zijn en datgene kunt uitwisselen wat echt is in jou en je contactpartner\, hoe nodig je dat uit? Hoe doe je dat? Eerlijk\, intiem\, kwetsbaar\, maar ook stevig\, hoe vind je die combinatie? Hoe kom je uit conflicten en buigt ze om naar iets dat prettig en helend is? \n\n\n\nHoe vaak schrik je anderen af\, of bevries je\, of heb je het nodig om jezelf uit contact terug te trekken?  \n\n\n\nHoe vaak zitten emoties en misverstanden in de weg?  \n\n\n\nHoe vaak ben je niet zeker wat te doen\, of merk je dat het niet werkt wat je doet?  \n\n\n\nHoe vaak voel je je overwelmd door alles wat zich in contact afspeelt? \n\n\n\nIk werk al heel wat jaren met mensen in dit thema en wil weer met een vaste groep deelnemers op reis naar antwoorden en een grotere nabijheid. Intiem contact is aanwezig\, oprecht\, eerlijk en heel waardevol. \n\n\n\nOntdek wat er gebeurt als jij jezelf leert delen vanuit die echtheid. Onder goede begeleiding ben je vrij om te experimenteren en te ontdekken wat voor “parels en diamanten” je terugkrijgt als je dit doet. Geef jezelf dit cadeau. \n\n\n\nDeze introductiemiddag is bedoeld als een eerste kennismaking in een vorm van contact die leidt naar verbinding\, openheid en uiterst bevredigend contact. Je kan je eigen uitdagingen inbrengen\, of een verlangen delen en erin gehoord worden. \n\n\n\nProbeer het eens. Het zal je vast veel. Als je op zoek bent naar een diepere verbinding met anderen of zelf meer gezien en gehoord wilt worden\, of simpelweg meer bevredigend contact\, dan zal deze open informatiemiddag vast iets voor je zijn. \n\n\n\nHet is een geweldige reis om de afstand tussen mensen te overbruggen en het maakt je als mens veel completer. Wie weet\, blijk je opeens iets te kunnen met mensen waar je voorheen ver van weg moest blijven. Wie weet schrik je minder snel en weet je beter te reageren. De reis zou zelfs je mensbeeld kunnen veranderen en je besef van zelf. \n\n\n\nAls je interesse hebt in zo’n groep en er niet bij kunnen zijn\, neem dan even contract op\, dan zijn er vast andere mogelijkheden. \n\n\n\nUitnodiging\n\n\n\nBij genoeg interesse wil ik met een kleine groep deelnemers op reis in deze materie. We gaan elkaar ontmoeten en helpen om te krijgen wat we willen in contact\, in verbinding en in leven. \n\n\n\nJe gaat oefenen met contactmogelijkheden en jezelf delen en anderen ontvangen. Je zal je uitdagingen inbrengen en daar hulp in krijgen\, en als dat helpend is werken we ook met familieopstellingen.  \n\n\n\nJe kan er jezelf wat ontmoeten en ook deel zijn van een groep die je waarschijnlijk al snel al hecht zal ervaren. Een mooie kans om jezelf verder te leren kennen en te verdiepen in contact en verbinding. Of misschien leer je hoe je meer aanwezig kunt blijven in uitdagend contact. \n\n\n\nIk ben je al voorgegaan en begeleid je graag op deze reis. Op deze reis leren we van elkaar en samen. \n\n\n\nOns streven is een vaste groep van 3 tot 10 personen en ik zou in het najaar willen starten. Als je interesse hebt om meer erover te weten of je denkt dat deelname iets voor jou is\, dan nodigen we je graag uit voor deze middag-workshop. Ik wil je daar graag wat meer leren kennen en een eerste stap met je aangaan. \n\n\n\nMocht je niet kunnen en dan kan je me altijd benaderen met je vragen of om je interesse voor deelname te delen. \n\n\n\nZien we je op 3 augustus? Ik hoop van wel. Op zijn minst kan het helpen ontdekken wat er nog meer voor je mogelijk is. \n\n\n\nErvaar het zelf\n\n\n\n\n\n\n\n\n\nEvenementdetails\n\n\n\n\n\nLocatie\n\n\n\n\n\n\n\n\n\n\nVolgende
URL:https://dewitteprins.nl/evenement/verbindend-communiceren-3-augustus-2025/
LOCATION:De Witte Prins\, Raiffeisenstrasse 15\, Ringe\, 49824\, Duitsland
ATTACH;FMTTYPE=image/jpeg:https://dewitteprins.nl/wp-content/uploads/2023/11/xvzjvbeak_4.jpg
ORGANIZER;CN="Hans Schuijff":MAILTO:hans@dewitteprins.nl
GEO:52.5968696;6.9205198
X-APPLE-STRUCTURED-LOCATION;VALUE=URI;X-ADDRESS=De Witte Prins Raiffeisenstrasse 15 Ringe 49824 Duitsland;X-APPLE-RADIUS=500;X-TITLE=Raiffeisenstrasse 15:geo:6.9205198,52.5968696
END:VEVENT
END:VCALENDAR