BEGIN:VCALENDAR
VERSION:2.0
PRODID:-//De Witte Prins - ECPv6.15.20//NONSGML v1.0//EN
CALSCALE:GREGORIAN
METHOD:PUBLISH
X-WR-CALNAME:De Witte Prins
X-ORIGINAL-URL:https://dewitteprins.nl
X-WR-CALDESC:Evenementen voor De Witte Prins
REFRESH-INTERVAL;VALUE=DURATION:PT1H
X-Robots-Tag:noindex
X-PUBLISHED-TTL:PT1H
BEGIN:VTIMEZONE
TZID:Europe/Amsterdam
BEGIN:DAYLIGHT
TZOFFSETFROM:+0100
TZOFFSETTO:+0200
TZNAME:CEST
DTSTART:20240331T010000
END:DAYLIGHT
BEGIN:STANDARD
TZOFFSETFROM:+0200
TZOFFSETTO:+0100
TZNAME:CET
DTSTART:20241027T010000
END:STANDARD
BEGIN:DAYLIGHT
TZOFFSETFROM:+0100
TZOFFSETTO:+0200
TZNAME:CEST
DTSTART:20250330T010000
END:DAYLIGHT
BEGIN:STANDARD
TZOFFSETFROM:+0200
TZOFFSETTO:+0100
TZNAME:CET
DTSTART:20251026T010000
END:STANDARD
BEGIN:DAYLIGHT
TZOFFSETFROM:+0100
TZOFFSETTO:+0200
TZNAME:CEST
DTSTART:20260329T010000
END:DAYLIGHT
BEGIN:STANDARD
TZOFFSETFROM:+0200
TZOFFSETTO:+0100
TZNAME:CET
DTSTART:20261025T010000
END:STANDARD
END:VTIMEZONE
BEGIN:VEVENT
DTSTART;TZID=Europe/Amsterdam:20250921T110000
DTEND;TZID=Europe/Amsterdam:20250921T170000
DTSTAMP:20260424T153630
CREATED:20250919T095155Z
LAST-MODIFIED:20260302T213258Z
UID:10000092-1758452400-1758474000@dewitteprins.nl
SUMMARY:Beursopstellingen in Beetsterzwaag
DESCRIPTION:Op zondag 21 september vind je me op een spirituele beurs in Beetsterzwaag (Friesland). Natuurlijk hoop ik dat je er dan ook zult zijn\, want ik zit te popelen om je daar te bedienen met familieopstellingen (tafelopstellingen) en helpende gesprekken. \n\n\n\nNatuurlijk neem ik dan nog wat kaarten mee\, voor als je een kaart wil trekken. Laat je maar verrassen. Al je vragen zijn welkom. \n\n\n\nEen beursconsult kost die dag 25 euro en dat is een leuke kennismakingsprijs. Je kan op zo’n beurs ook met wat collega’s kennismaken en er een mooi dagje uit van maken. \n\n\n\nDe entree van de beurs bedraagt € 5\,00 dit is inclusief de lezingen en workshops. Parkeren is gratis en er is voldoende parkeergelegenheid. \n\n\n\nMijn collega’s en ik staan die dag helemaal voor je klaar om lichaam en geest weer te laten stromen\, en/of je vragen te beantwoorden. Ik kijk ernaar uit om je weer te ontmoeten op deze gezellige beurs! \n\n\n\nTot dan! \n\n\n\nEvenementdetails\n\n\n\n\n\nBeurslocatie
URL:https://dewitteprins.nl/evenement/spirituele-beurs-21-september-2025/
LOCATION:Dorpshuis de Buorskip\, Vlaslaan 26\, Beetsterzwaag\, Friesland\, 9244CH\, Nederland
CATEGORIES:Beurzen
ATTACH;FMTTYPE=image/jpeg:https://dewitteprins.nl/wp-content/uploads/2025/09/hans-dewitteprins-beurs-twijzel-31-mei-2025-scaled.jpg
ORGANIZER;CN="Marchakri Spirituele beurzen":MAILTO:info@marchakri-spirituelebeurs.nl
END:VEVENT
END:VCALENDAR