BEGIN:VCALENDAR
VERSION:2.0
PRODID:-//De Witte Prins - ECPv6.15.20//NONSGML v1.0//EN
CALSCALE:GREGORIAN
METHOD:PUBLISH
X-WR-CALNAME:De Witte Prins
X-ORIGINAL-URL:https://dewitteprins.nl
X-WR-CALDESC:Evenementen voor De Witte Prins
REFRESH-INTERVAL;VALUE=DURATION:PT1H
X-Robots-Tag:noindex
X-PUBLISHED-TTL:PT1H
BEGIN:VTIMEZONE
TZID:Europe/Amsterdam
BEGIN:DAYLIGHT
TZOFFSETFROM:+0100
TZOFFSETTO:+0200
TZNAME:CEST
DTSTART:20250330T010000
END:DAYLIGHT
BEGIN:STANDARD
TZOFFSETFROM:+0200
TZOFFSETTO:+0100
TZNAME:CET
DTSTART:20251026T010000
END:STANDARD
BEGIN:DAYLIGHT
TZOFFSETFROM:+0100
TZOFFSETTO:+0200
TZNAME:CEST
DTSTART:20260329T010000
END:DAYLIGHT
BEGIN:STANDARD
TZOFFSETFROM:+0200
TZOFFSETTO:+0100
TZNAME:CET
DTSTART:20261025T010000
END:STANDARD
BEGIN:DAYLIGHT
TZOFFSETFROM:+0100
TZOFFSETTO:+0200
TZNAME:CEST
DTSTART:20270328T010000
END:DAYLIGHT
BEGIN:STANDARD
TZOFFSETFROM:+0200
TZOFFSETTO:+0100
TZNAME:CET
DTSTART:20271031T010000
END:STANDARD
END:VTIMEZONE
BEGIN:VEVENT
DTSTART;TZID=Europe/Amsterdam:20260503T110000
DTEND;TZID=Europe/Amsterdam:20260503T170000
DTSTAMP:20260424T154342
CREATED:20260420T174555Z
LAST-MODIFIED:20260420T175005Z
UID:10000112-1777806000-1777827600@dewitteprins.nl
SUMMARY:Beursopstellingen in Klazienaveen
DESCRIPTION:Op zondag 3 mei vind je me op de spirituele beurs van Mien Magie in Klazienaveen (Drenthe). Natuurlijk hoop ik dat je er dan ook zult zijn\, want ik zit te popelen om je te ontmoeten met familieopstellingen (tafelopstellingen) of helende gesprekken. \n\n\n\nNatuurlijk neem ik ook wat kaarten mee\, voor als je een dagkaart wilt trekken. Laat je maar verrassen. \n\n\n\nEen beursconsult kost die dag 25 euro als een leuke kennismakingsprijs. Al je vragen zijn welkom. \n\n\n\nJe kan op zo’n beurs natuurlijk ook met wat collega’s kennismaken en er een mooi dagje uit van maken. \n\n\n\nToegang tot de beurs is helemaal gratis\, inclusief lezingen en workshops. Er is ook voldoende gratis parkeergelegenheid. \n\n\n\nMijn collega’s en ik staan die dag helemaal voor je klaar om lichaam en geest weer te laten stromen\, en/of je vragen te beantwoorden. Ik kijk ernaar uit om je weer te ontmoeten op deze gezellige beurs! \n\n\n\nTot dan! \n\n\n\nEvenementdetails\n\n\n\n\n\nBeurslocatie
URL:https://dewitteprins.nl/evenement/spirituele-beurs-3-mei-2026/
LOCATION:Wijk- en Dienstencentrum Noorderbreedte\, Meteoor 3\, Klazienaveen\, Drenthe\, 7891 BD
CATEGORIES:Beurzen
ATTACH;FMTTYPE=image/jpeg:https://dewitteprins.nl/wp-content/uploads/2025/09/hans-dewitteprins-beurs-twijzel-31-mei-2025-scaled.jpg
ORGANIZER;CN="Mien Magie (Grietje Tuin-Fik)":MAILTO:g.g.tuinfik@gmail.com
END:VEVENT
END:VCALENDAR